Workbook

Sheet MAIN
A1: Retour formulier ongereinigd leeggoed ADR
A2: Let op! Alleen de gele velden vullen
A4: Debiteur:
A5: Bedrijfsnaam:
A6: Straat+huisnummer:
A7: Postcode+plaats:
A8: Land:
A9: Contactpersoon:
A10: Telefoon nr.:
A11: E-mailadres:
A13: Zoekveld voer een productnaam in: | B13: Artikelnr. | C13: Aantal | D13: Pallet no. | E13: Omschrijving | F13: Verpakking | G13: Stofnaam | H13: n.e.g. | I13: UN | J13: Verpakkingsgroep | K13: Hoofdklasse | L13: Bijkomend gevaar
B14: =IFERROR(VLOOKUP(A14,ARTDT!A:L,2,FALSE),"") | E14: =IFERROR(VLOOKUP(A14,ARTDT!A:L,3,FALSE),"") | F14: =IFERROR(VLOOKUP(A14,ARTDT!A:L,4,FALSE),"") | G14: =IFERROR(VLOOKUP(A14,ARTDT!A:L,5,FALSE),"") | H14: =IFERROR(VLOOKUP(A14,ARTDT!A:L,6,FALSE),"") | I14: =IFERROR(VLOOKUP(A14,ARTDT!A:L,7,FALSE),"") | J14: =IFERROR(VLOOKUP(A14,ARTDT!A:L,8,FALSE),"") | K14: =IFERROR(VLOOKUP(A14,ARTDT!A:L,9,FALSE),"") | L14: =IFERROR(VLOOKUP(A14,ARTDT!A:L,10,FALSE),"")
B15: =IFERROR(VLOOKUP(A15,ARTDT!A:L,2,FALSE),"") | E15: =IFERROR(VLOOKUP(A15,ARTDT!A:L,3,FALSE),"") | F15: =IFERROR(VLOOKUP(A15,ARTDT!A:L,4,FALSE),"") | G15: =IFERROR(VLOOKUP(A15,ARTDT!A:L,5,FALSE),"") | H15: =IFERROR(VLOOKUP(A15,ARTDT!A:L,6,FALSE),"") | I15: =IFERROR(VLOOKUP(A15,ARTDT!A:L,7,FALSE),"") | J15: =IFERROR(VLOOKUP(A15,ARTDT!A:L,8,FALSE),"") | K15: =IFERROR(VLOOKUP(A15,ARTDT!A:L,9,FALSE),"") | L15: =IFERROR(VLOOKUP(A15,ARTDT!A:L,10,FALSE),"")
B16: =IFERROR(VLOOKUP(A16,ARTDT!A:L,2,FALSE),"") | E16: =IFERROR(VLOOKUP(A16,ARTDT!A:L,3,FALSE),"") | F16: =IFERROR(VLOOKUP(A16,ARTDT!A:L,4,FALSE),"") | G16: =IFERROR(VLOOKUP(A16,ARTDT!A:L,5,FALSE),"") | H16: =IFERROR(VLOOKUP(A16,ARTDT!A:L,6,FALSE),"") | I16: =IFERROR(VLOOKUP(A16,ARTDT!A:L,7,FALSE),"") | J16: =IFERROR(VLOOKUP(A16,ARTDT!A:L,8,FALSE),"") | K16: =IFERROR(VLOOKUP(A16,ARTDT!A:L,9,FALSE),"") | L16: =IFERROR(VLOOKUP(A16,ARTDT!A:L,10,FALSE),"")
B17: =IFERROR(VLOOKUP(A17,ARTDT!A:L,2,FALSE),"") | E17: =IFERROR(VLOOKUP(A17,ARTDT!A:L,3,FALSE),"") | F17: =IFERROR(VLOOKUP(A17,ARTDT!A:L,4,FALSE),"") | G17: =IFERROR(VLOOKUP(A17,ARTDT!A:L,5,FALSE),"") | H17: =IFERROR(VLOOKUP(A17,ARTDT!A:L,6,FALSE),"") | I17: =IFERROR(VLOOKUP(A17,ARTDT!A:L,7,FALSE),"") | J17: =IFERROR(VLOOKUP(A17,ARTDT!A:L,8,FALSE),"") | K17: =IFERROR(VLOOKUP(A17,ARTDT!A:L,9,FALSE),"") | L17: =IFERROR(VLOOKUP(A17,ARTDT!A:L,10,FALSE),"")
B18: =IFERROR(VLOOKUP(A18,ARTDT!A:L,2,FALSE),"") | E18: =IFERROR(VLOOKUP(A18,ARTDT!A:L,3,FALSE),"") | F18: =IFERROR(VLOOKUP(A18,ARTDT!A:L,4,FALSE),"") | G18: =IFERROR(VLOOKUP(A18,ARTDT!A:L,5,FALSE),"") | H18: =IFERROR(VLOOKUP(A18,ARTDT!A:L,6,FALSE),"") | I18: =IFERROR(VLOOKUP(A18,ARTDT!A:L,7,FALSE),"") | J18: =IFERROR(VLOOKUP(A18,ARTDT!A:L,8,FALSE),"") | K18: =IFERROR(VLOOKUP(A18,ARTDT!A:L,9,FALSE),"") | L18: =IFERROR(VLOOKUP(A18,ARTDT!A:L,10,FALSE),"")
B19: =IFERROR(VLOOKUP(A19,ARTDT!A:L,2,FALSE),"") | E19: =IFERROR(VLOOKUP(A19,ARTDT!A:L,3,FALSE),"") | F19: =IFERROR(VLOOKUP(A19,ARTDT!A:L,4,FALSE),"") | G19: =IFERROR(VLOOKUP(A19,ARTDT!A:L,5,FALSE),"") | H19: =IFERROR(VLOOKUP(A19,ARTDT!A:L,6,FALSE),"") | I19: =IFERROR(VLOOKUP(A19,ARTDT!A:L,7,FALSE),"") | J19: =IFERROR(VLOOKUP(A19,ARTDT!A:L,8,FALSE),"") | K19: =IFERROR(VLOOKUP(A19,ARTDT!A:L,9,FALSE),"") | L19: =IFERROR(VLOOKUP(A19,ARTDT!A:L,10,FALSE),"")
B20: =IFERROR(VLOOKUP(A20,ARTDT!A:L,2,FALSE),"") | E20: =IFERROR(VLOOKUP(A20,ARTDT!A:L,3,FALSE),"") | F20: =IFERROR(VLOOKUP(A20,ARTDT!A:L,4,FALSE),"") | G20: =IFERROR(VLOOKUP(A20,ARTDT!A:L,5,FALSE),"") | H20: =IFERROR(VLOOKUP(A20,ARTDT!A:L,6,FALSE),"") | I20: =IFERROR(VLOOKUP(A20,ARTDT!A:L,7,FALSE),"") | J20: =IFERROR(VLOOKUP(A20,ARTDT!A:L,8,FALSE),"") | K20: =IFERROR(VLOOKUP(A20,ARTDT!A:L,9,FALSE),"") | L20: =IFERROR(VLOOKUP(A20,ARTDT!A:L,10,FALSE),"")
B21: =IFERROR(VLOOKUP(A21,ARTDT!A:L,2,FALSE),"") | E21: =IFERROR(VLOOKUP(A21,ARTDT!A:L,3,FALSE),"") | F21: =IFERROR(VLOOKUP(A21,ARTDT!A:L,4,FALSE),"") | G21: =IFERROR(VLOOKUP(A21,ARTDT!A:L,5,FALSE),"") | H21: =IFERROR(VLOOKUP(A21,ARTDT!A:L,6,FALSE),"") | I21: =IFERROR(VLOOKUP(A21,ARTDT!A:L,7,FALSE),"") | J21: =IFERROR(VLOOKUP(A21,ARTDT!A:L,8,FALSE),"") | K21: =IFERROR(VLOOKUP(A21,ARTDT!A:L,9,FALSE),"") | L21: =IFERROR(VLOOKUP(A21,ARTDT!A:L,10,FALSE),"")
B22: =IFERROR(VLOOKUP(A22,ARTDT!A:L,2,FALSE),"") | E22: =IFERROR(VLOOKUP(A22,ARTDT!A:L,3,FALSE),"") | F22: =IFERROR(VLOOKUP(A22,ARTDT!A:L,4,FALSE),"") | G22: =IFERROR(VLOOKUP(A22,ARTDT!A:L,5,FALSE),"") | H22: =IFERROR(VLOOKUP(A22,ARTDT!A:L,6,FALSE),"") | I22: =IFERROR(VLOOKUP(A22,ARTDT!A:L,7,FALSE),"") | J22: =IFERROR(VLOOKUP(A22,ARTDT!A:L,8,FALSE),"") | K22: =IFERROR(VLOOKUP(A22,ARTDT!A:L,9,FALSE),"") | L22: =IFERROR(VLOOKUP(A22,ARTDT!A:L,10,FALSE),"")
A25: Aantal pallets: | B25: Sla dit bestand op en verstuur deze naar: bestelling@hygienepartner.nl of druk op deze knop om de mail te openen

Sheet ARTDT
A1: Zoekterm | B1: no | C1: description | D1: description2 | E1: Stofnaam | F1: n.e.g. | G1: un_code | H1: verpak_groep | I1: gevaar_klasse | J1: extra_etiket | K1: adr_lc_jn | L1: tunnelbeperking
A2: =B2&" "&C2&" "&D2 -> 100218.000.00 Afvoeren restinhoud als chemisch afval per kg | B2: 100218.000.00 | C2: Afvoeren restinhoud als chemisch afval | D2: per kg | E2: =IFERROR(VLOOKUP(B2,Blad1!A:H,2,FALSE),"") | F2: {=VBAProject.Module1.TekstTussenHaakjes(E2)} -> #NAME? | G2: =IFERROR(VLOOKUP(B2,Blad1!A:H,3,FALSE),"") | H2: =IFERROR(VLOOKUP(B2,Blad1!A:H,4,FALSE),"") | I2: =IFERROR(VLOOKUP(B2,Blad1!A:H,5,FALSE),"") | J2: =IFERROR(VLOOKUP(B2,Blad1!A:H,6,FALSE),"") | K2: =IFERROR(VLOOKUP(B2,Blad1!A:H,7,FALSE),"") | L2: =IFERROR(VLOOKUP(B2,Blad1!A:H,8,FALSE),"")
A3: =B3&" "&C3&" "&D3 -> 100220.000.00 Fosforzuur 75% can 25 kg | B3: 100220.000.00 | C3: Fosforzuur 75% | D3: can 25 kg | E3: =IFERROR(VLOOKUP(B3,Blad1!A:H,2,FALSE),"") | F3: {=VBAProject.Module1.TekstTussenHaakjes(E3)} -> #NAME? | G3: =IFERROR(VLOOKUP(B3,Blad1!A:H,3,FALSE),"") | H3: =IFERROR(VLOOKUP(B3,Blad1!A:H,4,FALSE),"") | I3: =IFERROR(VLOOKUP(B3,Blad1!A:H,5,FALSE),"") | J3: =IFERROR(VLOOKUP(B3,Blad1!A:H,6,FALSE),"") | K3: =IFERROR(VLOOKUP(B3,Blad1!A:H,7,FALSE),"") | L3: =IFERROR(VLOOKUP(B3,Blad1!A:H,8,FALSE),"")
A4: =B4&" "&C4&" "&D4 -> 100221.000.00 Gedemineraliseerd water IBC container 1000 kg | B4: 100221.000.00 | C4: Gedemineraliseerd water | D4: IBC container 1000 kg | E4: =IFERROR(VLOOKUP(B4,Blad1!A:H,2,FALSE),"") | F4: {=VBAProject.Module1.TekstTussenHaakjes(E4)} -> #NAME? | G4: =IFERROR(VLOOKUP(B4,Blad1!A:H,3,FALSE),"") | H4: =IFERROR(VLOOKUP(B4,Blad1!A:H,4,FALSE),"") | I4: =IFERROR(VLOOKUP(B4,Blad1!A:H,5,FALSE),"") | J4: =IFERROR(VLOOKUP(B4,Blad1!A:H,6,FALSE),"") | K4: =IFERROR(VLOOKUP(B4,Blad1!A:H,7,FALSE),"") | L4: =IFERROR(VLOOKUP(B4,Blad1!A:H,8,FALSE),"")
A5: =B5&" "&C5&" "&D5 -> 100222.000.00 Melkzuur 80% E270 food grade can 24 kg | B5: 100222.000.00 | C5: Melkzuur 80% E270 food grade | D5: can 24 kg | E5: =IFERROR(VLOOKUP(B5,Blad1!A:H,2,FALSE),"") | F5: {=VBAProject.Module1.TekstTussenHaakjes(E5)} -> #NAME? | G5: =IFERROR(VLOOKUP(B5,Blad1!A:H,3,FALSE),"") | H5: =IFERROR(VLOOKUP(B5,Blad1!A:H,4,FALSE),"") | I5: =IFERROR(VLOOKUP(B5,Blad1!A:H,5,FALSE),"") | J5: =IFERROR(VLOOKUP(B5,Blad1!A:H,6,FALSE),"") | K5: =IFERROR(VLOOKUP(B5,Blad1!A:H,7,FALSE),"") | L5: =IFERROR(VLOOKUP(B5,Blad1!A:H,8,FALSE),"")
A6: =B6&" "&C6&" "&D6 -> 100223.000.00 Natriumhydroxide oplossing 32% IBC container 1330 kg | B6: 100223.000.00 | C6: Natriumhydroxide oplossing 32% | D6: IBC container 1330 kg | E6: =IFERROR(VLOOKUP(B6,Blad1!A:H,2,FALSE),"") -> Natriumhydroxide, oplossing | F6: {=VBAProject.Module1.TekstTussenHaakjes(E6)} -> #NAME? | G6: =IFERROR(VLOOKUP(B6,Blad1!A:H,3,FALSE),"") -> 1824 | H6: =IFERROR(VLOOKUP(B6,Blad1!A:H,4,FALSE),"") -> II | I6: =IFERROR(VLOOKUP(B6,Blad1!A:H,5,FALSE),"") -> 8 | J6: =IFERROR(VLOOKUP(B6,Blad1!A:H,6,FALSE),"") | K6: =IFERROR(VLOOKUP(B6,Blad1!A:H,7,FALSE),"") -> N | L6: =IFERROR(VLOOKUP(B6,Blad1!A:H,8,FALSE),"") -> E
A7: =B7&" "&C7&" "&D7 -> 100224.000.00 Natriumhydroxide oplossing 32% can 25 kg | B7: 100224.000.00 | C7: Natriumhydroxide oplossing 32% | D7: can 25 kg | E7: =IFERROR(VLOOKUP(B7,Blad1!A:H,2,FALSE),"") -> Natriumhydroxide, oplossing | F7: {=VBAProject.Module1.TekstTussenHaakjes(E7)} -> #NAME? | G7: =IFERROR(VLOOKUP(B7,Blad1!A:H,3,FALSE),"") -> 1824 | H7: =IFERROR(VLOOKUP(B7,Blad1!A:H,4,FALSE),"") -> II | I7: =IFERROR(VLOOKUP(B7,Blad1!A:H,5,FALSE),"") -> 8 | J7: =IFERROR(VLOOKUP(B7,Blad1!A:H,6,FALSE),"") | K7: =IFERROR(VLOOKUP(B7,Blad1!A:H,7,FALSE),"") -> N | L7: =IFERROR(VLOOKUP(B7,Blad1!A:H,8,FALSE),"") -> E
A8: =B8&" "&C8&" "&D8 -> 100226.000.00 Natriumhydroxide oplossing 32% vat 270 kg | B8: 100226.000.00 | C8: Natriumhydroxide oplossing 32% | D8: vat 270 kg | E8: =IFERROR(VLOOKUP(B8,Blad1!A:H,2,FALSE),"") -> Natriumhydroxide, oplossing | F8: {=VBAProject.Module1.TekstTussenHaakjes(E8)} -> #NAME? | G8: =IFERROR(VLOOKUP(B8,Blad1!A:H,3,FALSE),"") -> 1824 | H8: =IFERROR(VLOOKUP(B8,Blad1!A:H,4,FALSE),"") -> II | I8: =IFERROR(VLOOKUP(B8,Blad1!A:H,5,FALSE),"") -> 8 | J8: =IFERROR(VLOOKUP(B8,Blad1!A:H,6,FALSE),"") | K8: =IFERROR(VLOOKUP(B8,Blad1!A:H,7,FALSE),"") -> N | L8: =IFERROR(VLOOKUP(B8,Blad1!A:H,8,FALSE),"") -> E
A9: =B9&" "&C9&" "&D9 -> 100233.000.00 Salpeterzuur 53% vat 270 kg | B9: 100233.000.00 | C9: Salpeterzuur 53% | D9: vat 270 kg | E9: =IFERROR(VLOOKUP(B9,Blad1!A:H,2,FALSE),"") -> Salpeterzuur | F9: {=VBAProject.Module1.TekstTussenHaakjes(E9)} -> #NAME? | G9: =IFERROR(VLOOKUP(B9,Blad1!A:H,3,FALSE),"") -> 2031 | H9: =IFERROR(VLOOKUP(B9,Blad1!A:H,4,FALSE),"") -> II | I9: =IFERROR(VLOOKUP(B9,Blad1!A:H,5,FALSE),"") -> 8 | J9: =IFERROR(VLOOKUP(B9,Blad1!A:H,6,FALSE),"") | K9: =IFERROR(VLOOKUP(B9,Blad1!A:H,7,FALSE),"") -> N | L9: =IFERROR(VLOOKUP(B9,Blad1!A:H,8,FALSE),"") -> E
A10: =B10&" "&C10&" "&D10 -> 100234.000.00 Salpeterzuur 53% can 25 kg | B10: 100234.000.00 | C10: Salpeterzuur 53% | D10: can 25 kg | E10: =IFERROR(VLOOKUP(B10,Blad1!A:H,2,FALSE),"") -> Salpeterzuur | F10: {=VBAProject.Module1.TekstTussenHaakjes(E10)} -> #NAME? | G10: =IFERROR(VLOOKUP(B10,Blad1!A:H,3,FALSE),"") -> 2031 | H10: =IFERROR(VLOOKUP(B10,Blad1!A:H,4,FALSE),"") -> II | I10: =IFERROR(VLOOKUP(B10,Blad1!A:H,5,FALSE),"") -> 8 | J10: =IFERROR(VLOOKUP(B10,Blad1!A:H,6,FALSE),"") | K10: =IFERROR(VLOOKUP(B10,Blad1!A:H,7,FALSE),"") -> N | L10: =IFERROR(VLOOKUP(B10,Blad1!A:H,8,FALSE),"") -> E
A11: =B11&" "&C11&" "&D11 -> 100257.000.00 Waterstofperoxide 35% can 23 kg | B11: 100257.000.00 | C11: Waterstofperoxide 35% | D11: can 23 kg | E11: =IFERROR(VLOOKUP(B11,Blad1!A:H,2,FALSE),"") -> Waterstofperoxide, oplossing in water | F11: {=VBAProject.Module1.TekstTussenHaakjes(E11)} -> #NAME? | G11: =IFERROR(VLOOKUP(B11,Blad1!A:H,3,FALSE),"") -> 2014 | H11: =IFERROR(VLOOKUP(B11,Blad1!A:H,4,FALSE),"") -> II | I11: =IFERROR(VLOOKUP(B11,Blad1!A:H,5,FALSE),"") -> 5.1 | J11: =IFERROR(VLOOKUP(B11,Blad1!A:H,6,FALSE),"") -> 8 | K11: =IFERROR(VLOOKUP(B11,Blad1!A:H,7,FALSE),"") -> N | L11: =IFERROR(VLOOKUP(B11,Blad1!A:H,8,FALSE),"") -> E
A12: =B12&" "&C12&" "&D12 -> 100781.000.00 Azijnzuur 80% E260 can 22 kg | B12: 100781.000.00 | C12: Azijnzuur 80% E260 | D12: can 22 kg | E12: =IFERROR(VLOOKUP(B12,Blad1!A:H,2,FALSE),"") -> Azijnzuur, oplossing | F12: {=VBAProject.Module1.TekstTussenHaakjes(E12)} -> #NAME? | G12: =IFERROR(VLOOKUP(B12,Blad1!A:H,3,FALSE),"") -> 2790 | H12: =IFERROR(VLOOKUP(B12,Blad1!A:H,4,FALSE),"") -> II | I12: =IFERROR(VLOOKUP(B12,Blad1!A:H,5,FALSE),"") -> 8 | J12: =IFERROR(VLOOKUP(B12,Blad1!A:H,6,FALSE),"") | K12: =IFERROR(VLOOKUP(B12,Blad1!A:H,7,FALSE),"") -> N | L12: =IFERROR(VLOOKUP(B12,Blad1!A:H,8,FALSE),"") -> E
A13: =B13&" "&C13&" "&D13 -> 100782.000.00 Caustic soda miniparels zak 25 kg | B13: 100782.000.00 | C13: Caustic soda miniparels | D13: zak 25 kg | E13: =IFERROR(VLOOKUP(B13,Blad1!A:H,2,FALSE),"") -> Natriumhydroxide, vast | F13: {=VBAProject.Module1.TekstTussenHaakjes(E13)} -> #NAME? | G13: =IFERROR(VLOOKUP(B13,Blad1!A:H,3,FALSE),"") -> 1823 | H13: =IFERROR(VLOOKUP(B13,Blad1!A:H,4,FALSE),"") -> II | I13: =IFERROR(VLOOKUP(B13,Blad1!A:H,5,FALSE),"") -> 8 | J13: =IFERROR(VLOOKUP(B13,Blad1!A:H,6,FALSE),"") | K13: =IFERROR(VLOOKUP(B13,Blad1!A:H,7,FALSE),"") -> N | L13: =IFERROR(VLOOKUP(B13,Blad1!A:H,8,FALSE),"") -> E
... A926: =B926&" "&C926&" "&D926 -> 124374.000.00 Doseersproeier 5 l Greasecutter en Greasestrip doos 12 st | B926: 124374.000.00 | C926: Doseersproeier 5 l Greasecutter en Greasestrip | D926: doos 12 st | E926: =IFERROR(VLOOKUP(B926,Blad1!A:H,2,FALSE),"") | F926: {=VBAProject.Module1.TekstTussenHaakjes(E926)} -> #NAME? | G926: =IFERROR(VLOOKUP(B926,Blad1!A:H,3,FALSE),"") | H926: =IFERROR(VLOOKUP(B926,Blad1!A:H,4,FALSE),"") | I926: =IFERROR(VLOOKUP(B926,Blad1!A:H,5,FALSE),"") | J926: =IFERROR(VLOOKUP(B926,Blad1!A:H,6,FALSE),"") | K926: =IFERROR(VLOOKUP(B926,Blad1!A:H,7,FALSE),"") | L926: =IFERROR(VLOOKUP(B926,Blad1!A:H,8,FALSE),"")

Sheet Query1
A1: Item_No | B1: Omschrijving | C1: Verpakking | D1: Description | E1: n.e.g. | F1: un_code | G1: verpak_groep | H1: gevaar_klasse | I1: extra_etiket | J1: tunnelbeperking | K1: adr_lc_jn
A2: 100018.000.00 | D2: EHTANOL, OPLOSSING | E2: {=TekstTussenHaakjes(Query1[[#This Row],[Description]])} -> #NAME?
A3: 100019.000.00 | D3: EHTANOL, OPLOSSING | E3: {=TekstTussenHaakjes(Query1[[#This Row],[Description]])} -> #NAME?
A4: 100085.000.00 | D4: BIJTENDE BASISCHE ORGANISCHE VLOEISTOF N.E.G. | E4: {=TekstTussenHaakjes(Query1[[#This Row],[Description]])} -> #NAME? | F4: 1824 | G4: II | H4: 8 | J4: E | K4: N
A5: 100086.000.00 | D5: BIJTENDE BASISCHE ORGANISCHE VLOEISTOF N.E.G. | E5: {=TekstTussenHaakjes(Query1[[#This Row],[Description]])} -> #NAME? | F5: 1824 | G5: II | H5: 8 | J5: E | K5: N
A6: 100105.000.00 | D6: DIPENTEEN | E6: {=TekstTussenHaakjes(Query1[[#This Row],[Description]])} -> #NAME? | F6: 1824 | G6: II | H6: 8 | J6: E | K6: N
A7: 100223.000.00 | D7: NATRIUMHYDROXIDE, OPLOSSING | E7: {=TekstTussenHaakjes(Query1[[#This Row],[Description]])} -> #NAME? | F7: 1824 | G7: II | H7: 8 | J7: E | K7: N
A8: 100224.000.00 | D8: NATRIUMHYDROXIDE, OPLOSSING | E8: {=TekstTussenHaakjes(Query1[[#This Row],[Description]])} -> #NAME? | F8: 2031 | G8: II | H8: 8 | J8: E | K8: N
A9: 100226.000.00 | D9: NATRIUMHYDROXIDE, OPLOSSING | E9: {=TekstTussenHaakjes(Query1[[#This Row],[Description]])} -> #NAME? | F9: 2031 | G9: II | H9: 8 | J9: E | K9: N
A10: 100227.000.00 | D10: Natriumhydroxide, oplossing | E10: {=TekstTussenHaakjes(Query1[[#This Row],[Description]])} -> #NAME? | F10: 2014 | G10: II | H10: 5.1 | I10: 8 | J10: E | K10: N
A11: 100228.000.00 | D11: Natriumhydroxide, oplossing | E11: {=TekstTussenHaakjes(Query1[[#This Row],[Description]])} -> #NAME? | F11: 1830 | G11: II | H11: 8 | J11: E | K11: N
A12: 100229.000.00 | D12: Natriumhydroxide, oplossing | E12: {=TekstTussenHaakjes(Query1[[#This Row],[Description]])} -> #NAME? | F12: 1830 | G12: II | H12: 8 | J12: E | K12: N
A13: 100230.000.00 | D13: Natriumhypochloriet, oplossing | E13: {=TekstTussenHaakjes(Query1[[#This Row],[Description]])} -> #NAME? | F13: 2790 | G13: II | H13: 8 | J13: E | K13: N
A14: 100233.000.00 | D14: SALPETERZUUR | E14: {=TekstTussenHaakjes(Query1[[#This Row],[Description]])} -> #NAME?
A15: 100234.000.00 | D15: SALPETERZUUR | E15: {=TekstTussenHaakjes(Query1[[#This Row],[Description]])} -> #NAME? | F15: 1779 | G15: II | H15: 8 | I15: 3 | J15: D/E | K15: N
A16: 100257.000.00 | D16: WATERSTOFPERIOXIDE, OPLOSSING IN WATER | E16: {=TekstTussenHaakjes(Query1[[#This Row],[Description]])} -> #NAME? | F16: 1824 | G16: II | H16: 8 | J16: E | K16: N
A17: 100258.000.00 | D17: ZWAVELZUUR | E17: {=TekstTussenHaakjes(Query1[[#This Row],[Description]])} -> #NAME? | F17: 1791 | G17: II | H17: 8 | J17: E | K17: N
A18: 100259.000.00 | D18: ZWAVELZUUR | E18: {=TekstTussenHaakjes(Query1[[#This Row],[Description]])} -> #NAME? | F18: 1791 | G18: III | H18: 8 | J18: E | K18: N
A19: 100781.000.00 | D19: Azijnzuur, oplossing | E19: {=TekstTussenHaakjes(Query1[[#This Row],[Description]])} -> #NAME?
A20: 100782.000.00 | D20: Natriumhydroxide, vast | E20: {=TekstTussenHaakjes(Query1[[#This Row],[Description]])} -> #NAME? | F20: 2031 | G20: II | H20: 8 | J20: E | K20: N
A21: 100786.000.00 | D21: Methaanzuuroplossing | E21: {=TekstTussenHaakjes(Query1[[#This Row],[Description]])} -> #NAME? | F21: 2014 | G21: II | H21: 5.1 | I21: 8 | J21: E | K21: N
A22: 100787.000.00 | D22: NATRIUMHYDROXIDE, OPLOSSING | E22: {=TekstTussenHaakjes(Query1[[#This Row],[Description]])} -> #NAME? | F22: 1789 | G22: II | H22: 8 | J22: E | K22: N
A23: 100788.000.00 | D23: HYPOCHLORIET, OPLOSSING | E23: {=TekstTussenHaakjes(Query1[[#This Row],[Description]])} -> #NAME? | F23: 2796 | G23: II | H23: 8 | J23: E | K23: N
A24: 100789.000.00 | D24: Hypochloriet, oplossing | E24: {=TekstTussenHaakjes(Query1[[#This Row],[Description]])} -> #NAME?
A25: 100791.000.00 | D25: Salpeterzuur | E25: {=TekstTussenHaakjes(Query1[[#This Row],[Description]])} -> #NAME?
A26: 100805.000.00 | D26: WATERSTOFPERIOXIDE, OPLOSSING IN WATER | E26: {=TekstTussenHaakjes(Query1[[#This Row],[Description]])} -> #NAME? | F26: 1170 | G26: II | H26: 3 | J26: D/E | K26: J
A27: 100806.000.00 | D27: Waterstofperoxide, oplossing in water | E27: {=TekstTussenHaakjes(Query1[[#This Row],[Description]])} -> #NAME? | F27: 2209 | G27: III | H27: 8 | J27: E | K27: N
A28: 100807.000.00 | D28: CHLOORWATERSTOFZUUR (ZOUTZUUR) | E28: {=TekstTussenHaakjes(Query1[[#This Row],[Description]])} -> #NAME? | F28: 3262 | G28: III | H28: 8 | J28: E | K28: J
A29: 100808.000.00 | D29: ZOUTUUR | E29: {=TekstTussenHaakjes(Query1[[#This Row],[Description]])} -> #NAME? | F29: 3266 | G29: III | H29: 8 | J29: E | K29: N
A30: 100809.000.00 | D30: Zwavelzuur | E30: {=TekstTussenHaakjes(Query1[[#This Row],[Description]])} -> #NAME?
A31: 101375.000.00 | D31: Extracten, aromatisch, vloeibaar | E31: {=TekstTussenHaakjes(Query1[[#This Row],[Description]])} -> #NAME?
A32: 101376.000.00 | D32: Extracten, aromatisch, vloeibaar | E32: {=TekstTussenHaakjes(Query1[[#This Row],[Description]])} -> #NAME?
A33: 101677.000.00 | D33: ETHANOL SOLUTION (ETHYL ALCOHOL SOLUTION) | E33: {=TekstTussenHaakjes(Query1[[#This Row],[Description]])} -> #NAME? | F33: 1791 | G33: II | H33: 8 | J33: E | K33: N
A34: 101688.000.00 | D34: Alcoholen N.E.G. (ethanol, propaan-2-ol) | E34: {=TekstTussenHaakjes(Query1[[#This Row],[Description]])} -> #NAME? | F34: 1824 | G34: II | H34: 8 | J34: E | K34: N
A35: 101690.000.00 | D35: Alcoholen, N.E.G. (ethanol, propaan-2-ol) | E35: {=TekstTussenHaakjes(Query1[[#This Row],[Description]])} -> #NAME? | F35: 1719 | G35: II | H35: 8 | J35: E | K35: N
A36: 101691.000.00 | D36: Alcoholen, N.E.G. (ethanol, propaan-2-ol) | E36: {=TekstTussenHaakjes(Query1[[#This Row],[Description]])} -> #NAME? | F36: 1719 | G36: II | H36: 8 | J36: E | K36: N
A37: 101692.000.00 | D37: Alcoholen, N.E.G. (ethanol, propaan-2-ol) | E37: {=TekstTussenHaakjes(Query1[[#This Row],[Description]])} -> #NAME? | F37: 3267 | G37: III | H37: 8 | J37: E | K37: N
A38: 101695.000.00 | D38: BRANDBARE VLOEISTOF, N.E.G. | E38: {=TekstTussenHaakjes(Query1[[#This Row],[Description]])} -> #NAME? | F38: 3267 | G38: III | H38: 8 | J38: E | K38: N
A39: 101696.000.00 | D39: BRANDBARE VLOEISTOF, N.E.G. | E39: {=TekstTussenHaakjes(Query1[[#This Row],[Description]])} -> #NAME? | F39: 1805 | G39: III | H39: 8 | J39: E | K39: N
A40: 101701.000.00 | D40: Alcoholen, N.E.G. (ethanol, propaan-2-ol) | E40: {=TekstTussenHaakjes(Query1[[#This Row],[Description]])} -> #NAME?
...

Sheet Blad1
A1: artnr | B1: adr_omschrijving | C1: un_code | D1: verpak_groep | E1: gevaar_klasse | F1: extra_etiket | G1: adr_lc_jn | H1: tunnelbeperking
A2: 100018.000.00 | B2: Eethanol, oplossing (ethylalcohol, oplossing) | C2: 1170 | D2: II | E2: 3 | G2: N | H2: D/E
A3: 100019.000.00 | B3: Ethanol, oplossing (ethylalcohol, oplossing) | C3: 1170 | D3: II | E3: 3 | G3: N | H3: D/E
A4: 100085.000.00 | B4: Bijtende basische organische vloeistof N.E.G. (didedylmethylammoniumchloride) | C4: 3267 | D4: III | E4: 8 | G4: J | H4: E
A5: 100086.000.00 | B5: Bijtende basische organische vloeistof N.E.G. (didedylmethylammoniumchloride) | C5: 3267 | D5: III | E5: 8 | G5: J | H5: E
A6: 100105.000.00 | B6: Dipenteen | C6: 2052 | D6: III | E6: 3 | G6: J | H6: D/E
A7: 100223.000.00 | B7: Natriumhydroxide, oplossing | C7: 1824 | D7: II | E7: 8 | G7: N | H7: E
A8: 100224.000.00 | B8: Natriumhydroxide, oplossing | C8: 1824 | D8: II | E8: 8 | G8: N | H8: E
A9: 100225.000.00 | B9: Natriumhydroxide, oplossing | C9: 1824 | D9: II | E9: 8 | G9: N | H9: E
A10: 100226.000.00 | B10: Natriumhydroxide, oplossing | C10: 1824 | D10: II | E10: 8 | G10: N | H10: E
A11: 100227.000.00 | B11: Natriumhydroxide, oplossing | C11: 1824 | D11: II | E11: 8 | G11: N | H11: E
A12: 100228.000.00 | B12: Natriumhydroxide, oplossing | C12: 1824 | D12: II | E12: 8 | G12: N | H12: E
A13: 100229.000.00 | B13: Natriumhydroxide, oplossing | C13: 1824 | D13: II | E13: 8 | G13: N | H13: E
... A16: 100234.000.00 | B16: Salpeterzuur | C16: 2031 | D16: II | E16: 8 | G16: N | H16: E
A17: 100257.000.00 | B17: Waterstofperoxide, oplossing in water | C17: 2014 | D17: II | E17: 5.1 | F17: 8 | G17: N | H17: E
A18: 100258.000.00 | B18: ZWAVELZUUR | C18: 1830 | D18: II | E18: 8 | G18: N | H18: E
A19: 100259.000.00 | B19: ZWAVELZUUR | C19: 1830 | D19: II | E19: 8 | G19: N | H19: E
A20: 100781.000.00 | B20: Azijnzuur, oplossing | C20: 2790 | D20: II | E20: 8 | G20: N | H20: E
A21: 100782.000.00 | B21: Natriumhydroxide, vast | C21: 1823 | D21: II | E21: 8 | G21: N | H21: E
A22: 100786.000.00 | B22: Methaanzuuroplossing | C22: 1779 | D22: II | E22: 8 | F22: 3 | G22: N | H22: D/E
A23: 100787.000.00 | B23: Natriumhydroxide, oplossing | C23: 1824 | D23: II | E23: 8 | G23: N | H23: E
A24: 100788.000.00 | B24: Hypochloriet, oplossing | C24: 1791 | D24: II | E24: 8 | G24: N | H24: E
A25: 100789.000.00 | B25: Hypochloriet, oplossing | C25: 1791 | D25: III | E25: 8 | G25: N | H25: E
A26: 100791.000.00 | B26: Salpeterzuur | C26: 2031 | D26: II | E26: 8 | G26: N | H26: E
A27: 100805.000.00 | B27: Waterstofperoxide, oplossing in water | C27: 2014 | D27: II | E27: 5.1 | F27: 8 | G27: N | H27: E
A28: 100806.000.00 | B28: Waterstofperoxide, oplossing in water | C28: 2014 | D28: II | E28: 5.1 | F28: 8 | G28: N | H28: E
A29: 100807.000.00 | B29: CHLOORWATERSTOFZUUR (ZOUTZUUR) | C29: 1789 | D29: II | E29: 8 | G29: N | H29: E
A30: 100808.000.00 | B30: Zoutzuur | C30: 1789 | D30: II | E30: 8 | G30: N | H30: E
A31: 100809.000.00 | B31: Zwavelzuur | C31: 2796 | D31: II | E31: 8 | G31: N | H31: E
A32: 101375.000.00 | B32: Extracten, aromatisch, vloeibaar | C32: 1169 | D32: III | E32: 3 | G32: N | H32: D/E
A33: 101376.000.00 | B33: Extracten, aromatisch, vloeibaar | C33: 1169 | D33: III | E33: 3 | G33: J | H33: D/E
A34: 101677.000.00 | B34: ETHANOL SOLUTION (ETHYL ALCOHOL SOLUTION) | C34: 1170 | D34: II | E34: 3 | G34: J | H34: D/E
A35: 101688.000.00 | B35: Alcoholen N.E.G. (ethanol, propaan-2-ol) | C35: 1987 | D35: III | E35: 3 | G35: J | H35: D/E
A36: 101690.000.00 | B36: Alcoholen, N.E.G. (ethanol, propaan-2-ol) | C36: 1987 | D36: III | E36: 3 | G36: J | H36: D/E
A37: 101691.000.00 | B37: Alcoholen, N.E.G. (ethanol, propaan-2-ol) | C37: 1987 | D37: III | E37: 3 | G37: J | H37: D/E
A38: 101692.000.00 | B38: Alcoholen, N.E.G. (ethanol, propaan-2-ol) | C38: 1987 | D38: III | E38: 3 | G38: N | H38: D/E
A39: 101695.000.00 | B39: BRANDBARE VLOEISTOF, N.E.G. | C39: 1993 | D39: III | E39: 3 | G39: N | H39: D/E
A40: 101696.000.00 | B40: BRANDBARE VLOEISTOF, N.E.G. | C40: 1993 | D40: III | E40: 3 | G40: N | H40: D/E
... A48: 101717.000.00 | B48: Alcoholen, N.E.G. (ethanol, propaan-2-ol) | C48: 1987 | D48: III | E48: 3 | G48: N | H48: D/E
A49: 101719.000.00 | B49: Spuitbussen | C49: 1950 | E49: 2 | G49: J | H49: D
...
