Workbook

Sheet MAIN
A1: Retour formulier ongereinigd leeggoed ADR
A2: Let op! Alleen de gele velden vullen
A4: Debiteur:
A5: Bedrijfsnaam:
A6: Straat+huisnummer:
A7: Postcode+plaats:
A8: Land:
A9: Contactpersoon:
A10: Telefoon nr.:
A11: E-mailadres:
A13: Zoekveld voer een productnaam in: | B13: Artikelnr. | C13: Aantal | D13: Pallet no. | E13: Omschrijving | F13: Verpakking | G13: Stofnaam | H13: n.e.g. | I13: UN | J13: Verpakkingsgroep | K13: Hoofdklasse | L13: Bijkomend gevaar
B14: =IFERROR(VLOOKUP(A14,ARTDT!A:L,2,FALSE),"") | E14: =IFERROR(VLOOKUP(A14,ARTDT!A:L,3,FALSE),"") | F14: =IFERROR(VLOOKUP(A14,ARTDT!A:L,4,FALSE),"") | G14: =IFERROR(VLOOKUP(A14,ARTDT!A:L,5,FALSE),"") | H14: =IFERROR(VLOOKUP(A14,ARTDT!A:L,6,FALSE),"") | I14: =IFERROR(VLOOKUP(A14,ARTDT!A:L,7,FALSE),"") | J14: =IFERROR(VLOOKUP(A14,ARTDT!A:L,8,FALSE),"") | K14: =IFERROR(VLOOKUP(A14,ARTDT!A:L,9,FALSE),"") | L14: =IFERROR(VLOOKUP(A14,ARTDT!A:L,10,FALSE),"")
B15: =IFERROR(VLOOKUP(A15,ARTDT!A:L,2,FALSE),"") | E15: =IFERROR(VLOOKUP(A15,ARTDT!A:L,3,FALSE),"") | F15: =IFERROR(VLOOKUP(A15,ARTDT!A:L,4,FALSE),"") | G15: =IFERROR(VLOOKUP(A15,ARTDT!A:L,5,FALSE),"") | H15: =IFERROR(VLOOKUP(A15,ARTDT!A:L,6,FALSE),"") | I15: =IFERROR(VLOOKUP(A15,ARTDT!A:L,7,FALSE),"") | J15: =IFERROR(VLOOKUP(A15,ARTDT!A:L,8,FALSE),"") | K15: =IFERROR(VLOOKUP(A15,ARTDT!A:L,9,FALSE),"") | L15: =IFERROR(VLOOKUP(A15,ARTDT!A:L,10,FALSE),"")
B16: =IFERROR(VLOOKUP(A16,ARTDT!A:L,2,FALSE),"") | E16: =IFERROR(VLOOKUP(A16,ARTDT!A:L,3,FALSE),"") | F16: =IFERROR(VLOOKUP(A16,ARTDT!A:L,4,FALSE),"") | G16: =IFERROR(VLOOKUP(A16,ARTDT!A:L,5,FALSE),"") | H16: =IFERROR(VLOOKUP(A16,ARTDT!A:L,6,FALSE),"") | I16: =IFERROR(VLOOKUP(A16,ARTDT!A:L,7,FALSE),"") | J16: =IFERROR(VLOOKUP(A16,ARTDT!A:L,8,FALSE),"") | K16: =IFERROR(VLOOKUP(A16,ARTDT!A:L,9,FALSE),"") | L16: =IFERROR(VLOOKUP(A16,ARTDT!A:L,10,FALSE),"")
B17: =IFERROR(VLOOKUP(A17,ARTDT!A:L,2,FALSE),"") | E17: =IFERROR(VLOOKUP(A17,ARTDT!A:L,3,FALSE),"") | F17: =IFERROR(VLOOKUP(A17,ARTDT!A:L,4,FALSE),"") | G17: =IFERROR(VLOOKUP(A17,ARTDT!A:L,5,FALSE),"") | H17: =IFERROR(VLOOKUP(A17,ARTDT!A:L,6,FALSE),"") | I17: =IFERROR(VLOOKUP(A17,ARTDT!A:L,7,FALSE),"") | J17: =IFERROR(VLOOKUP(A17,ARTDT!A:L,8,FALSE),"") | K17: =IFERROR(VLOOKUP(A17,ARTDT!A:L,9,FALSE),"") | L17: =IFERROR(VLOOKUP(A17,ARTDT!A:L,10,FALSE),"")
B18: =IFERROR(VLOOKUP(A18,ARTDT!A:L,2,FALSE),"") | E18: =IFERROR(VLOOKUP(A18,ARTDT!A:L,3,FALSE),"") | F18: =IFERROR(VLOOKUP(A18,ARTDT!A:L,4,FALSE),"") | G18: =IFERROR(VLOOKUP(A18,ARTDT!A:L,5,FALSE),"") | H18: =IFERROR(VLOOKUP(A18,ARTDT!A:L,6,FALSE),"") | I18: =IFERROR(VLOOKUP(A18,ARTDT!A:L,7,FALSE),"") | J18: =IFERROR(VLOOKUP(A18,ARTDT!A:L,8,FALSE),"") | K18: =IFERROR(VLOOKUP(A18,ARTDT!A:L,9,FALSE),"") | L18: =IFERROR(VLOOKUP(A18,ARTDT!A:L,10,FALSE),"")
B19: =IFERROR(VLOOKUP(A19,ARTDT!A:L,2,FALSE),"") | E19: =IFERROR(VLOOKUP(A19,ARTDT!A:L,3,FALSE),"") | F19: =IFERROR(VLOOKUP(A19,ARTDT!A:L,4,FALSE),"") | G19: =IFERROR(VLOOKUP(A19,ARTDT!A:L,5,FALSE),"") | H19: =IFERROR(VLOOKUP(A19,ARTDT!A:L,6,FALSE),"") | I19: =IFERROR(VLOOKUP(A19,ARTDT!A:L,7,FALSE),"") | J19: =IFERROR(VLOOKUP(A19,ARTDT!A:L,8,FALSE),"") | K19: =IFERROR(VLOOKUP(A19,ARTDT!A:L,9,FALSE),"") | L19: =IFERROR(VLOOKUP(A19,ARTDT!A:L,10,FALSE),"")
B20: =IFERROR(VLOOKUP(A20,ARTDT!A:L,2,FALSE),"") | E20: =IFERROR(VLOOKUP(A20,ARTDT!A:L,3,FALSE),"") | F20: =IFERROR(VLOOKUP(A20,ARTDT!A:L,4,FALSE),"") | G20: =IFERROR(VLOOKUP(A20,ARTDT!A:L,5,FALSE),"") | H20: =IFERROR(VLOOKUP(A20,ARTDT!A:L,6,FALSE),"") | I20: =IFERROR(VLOOKUP(A20,ARTDT!A:L,7,FALSE),"") | J20: =IFERROR(VLOOKUP(A20,ARTDT!A:L,8,FALSE),"") | K20: =IFERROR(VLOOKUP(A20,ARTDT!A:L,9,FALSE),"") | L20: =IFERROR(VLOOKUP(A20,ARTDT!A:L,10,FALSE),"")
B21: =IFERROR(VLOOKUP(A21,ARTDT!A:L,2,FALSE),"") | E21: =IFERROR(VLOOKUP(A21,ARTDT!A:L,3,FALSE),"") | F21: =IFERROR(VLOOKUP(A21,ARTDT!A:L,4,FALSE),"") | G21: =IFERROR(VLOOKUP(A21,ARTDT!A:L,5,FALSE),"") | H21: =IFERROR(VLOOKUP(A21,ARTDT!A:L,6,FALSE),"") | I21: =IFERROR(VLOOKUP(A21,ARTDT!A:L,7,FALSE),"") | J21: =IFERROR(VLOOKUP(A21,ARTDT!A:L,8,FALSE),"") | K21: =IFERROR(VLOOKUP(A21,ARTDT!A:L,9,FALSE),"") | L21: =IFERROR(VLOOKUP(A21,ARTDT!A:L,10,FALSE),"")
B22: =IFERROR(VLOOKUP(A22,ARTDT!A:L,2,FALSE),"") | E22: =IFERROR(VLOOKUP(A22,ARTDT!A:L,3,FALSE),"") | F22: =IFERROR(VLOOKUP(A22,ARTDT!A:L,4,FALSE),"") | G22: =IFERROR(VLOOKUP(A22,ARTDT!A:L,5,FALSE),"") | H22: =IFERROR(VLOOKUP(A22,ARTDT!A:L,6,FALSE),"") | I22: =IFERROR(VLOOKUP(A22,ARTDT!A:L,7,FALSE),"") | J22: =IFERROR(VLOOKUP(A22,ARTDT!A:L,8,FALSE),"") | K22: =IFERROR(VLOOKUP(A22,ARTDT!A:L,9,FALSE),"") | L22: =IFERROR(VLOOKUP(A22,ARTDT!A:L,10,FALSE),"")
A25: Aantal pallets: | B25: Sla dit bestand op en verstuur deze naar: bestelling@hygienepartner.nl of druk op deze knop om de mail te openen

Sheet ARTDT
A1: Zoekterm | B1: no | C1: description | D1: description2 | E1: Stofnaam | F1: n.e.g. | G1: un_code | H1: verpak_groep | I1: gevaar_klasse | J1: extra_etiket | K1: adr_lc_jn | L1: tunnelbeperking
A2: =B2&" "&C2&" "&D2 -> 100218.000.00 Afvoeren restinhoud als chemisch afval per kg | B2: 100218.000.00 | C2: Afvoeren restinhoud als chemisch afval | D2: per kg | E2: =IFERROR(VLOOKUP(B2,Blad1!A:H,2,FALSE),"") | F2: {=VBAProject.Module1.TekstTussenHaakjes(E2)} -> #NAME? | G2: =IFERROR(VLOOKUP(B2,Blad1!A:H,3,FALSE),"") | H2: =IFERROR(VLOOKUP(B2,Blad1!A:H,4,FALSE),"") | I2: =IFERROR(VLOOKUP(B2,Blad1!A:H,5,FALSE),"") | J2: =IFERROR(VLOOKUP(B2,Blad1!A:H,6,FALSE),"") | K2: =IFERROR(VLOOKUP(B2,Blad1!A:H,7,FALSE),"") | L2: =IFERROR(VLOOKUP(B2,Blad1!A:H,8,FALSE),"")
A3: =B3&" "&C3&" "&D3 -> 100220.000.00 Fosforzuur 75% can 25 kg | B3: 100220.000.00 | C3: Fosforzuur 75% | D3: can 25 kg | E3: =IFERROR(VLOOKUP(B3,Blad1!A:H,2,FALSE),"") | F3: {=VBAProject.Module1.TekstTussenHaakjes(E3)} -> #NAME? | G3: =IFERROR(VLOOKUP(B3,Blad1!A:H,3,FALSE),"") | H3: =IFERROR(VLOOKUP(B3,Blad1!A:H,4,FALSE),"") | I3: =IFERROR(VLOOKUP(B3,Blad1!A:H,5,FALSE),"") | J3: =IFERROR(VLOOKUP(B3,Blad1!A:H,6,FALSE),"") | K3: =IFERROR(VLOOKUP(B3,Blad1!A:H,7,FALSE),"") | L3: =IFERROR(VLOOKUP(B3,Blad1!A:H,8,FALSE),"")
A4: =B4&" "&C4&" "&D4 -> 100221.000.00 Gedemineraliseerd water IBC container 1000 kg | B4: 100221.000.00 | C4: Gedemineraliseerd water | D4: IBC container 1000 kg | E4: =IFERROR(VLOOKUP(B4,Blad1!A:H,2,FALSE),"") | F4: {=VBAProject.Module1.TekstTussenHaakjes(E4)} -> #NAME? | G4: =IFERROR(VLOOKUP(B4,Blad1!A:H,3,FALSE),"") | H4: =IFERROR(VLOOKUP(B4,Blad1!A:H,4,FALSE),"") | I4: =IFERROR(VLOOKUP(B4,Blad1!A:H,5,FALSE),"") | J4: =IFERROR(VLOOKUP(B4,Blad1!A:H,6,FALSE),"") | K4: =IFERROR(VLOOKUP(B4,Blad1!A:H,7,FALSE),"") | L4: =IFERROR(VLOOKUP(B4,Blad1!A:H,8,FALSE),"")
A5: =B5&" "&C5&" "&D5 -> 100222.000.00 Melkzuur 80% E270 food grade can 24 kg | B5: 100222.000.00 | C5: Melkzuur 80% E270 food grade | D5: can 24 kg | E5: =IFERROR(VLOOKUP(B5,Blad1!A:H,2,FALSE),"") | F5: {=VBAProject.Module1.TekstTussenHaakjes(E5)} -> #NAME? | G5: =IFERROR(VLOOKUP(B5,Blad1!A:H,3,FALSE),"") | H5: =IFERROR(VLOOKUP(B5,Blad1!A:H,4,FALSE),"") | I5: =IFERROR(VLOOKUP(B5,Blad1!A:H,5,FALSE),"") | J5: =IFERROR(VLOOKUP(B5,Blad1!A:H,6,FALSE),"") | K5: =IFERROR(VLOOKUP(B5,Blad1!A:H,7,FALSE),"") | L5: =IFERROR(VLOOKUP(B5,Blad1!A:H,8,FALSE),"")
A6: =B6&" "&C6&" "&D6 -> 100223.000.00 Natriumhydroxide oplossing 32% IBC container 1330 kg | B6: 100223.000.00 | C6: Natriumhydroxide oplossing 32% | D6: IBC container 1330 kg | E6: =IFERROR(VLOOKUP(B6,Blad1!A:H,2,FALSE),"") -> Natriumhydroxide, oplossing | F6: {=VBAProject.Module1.TekstTussenHaakjes(E6)} -> #NAME? | G6: =IFERROR(VLOOKUP(B6,Blad1!A:H,3,FALSE),"") -> 1824 | H6: =IFERROR(VLOOKUP(B6,Blad1!A:H,4,FALSE),"") -> II | I6: =IFERROR(VLOOKUP(B6,Blad1!A:H,5,FALSE),"") -> 8 | J6: =IFERROR(VLOOKUP(B6,Blad1!A:H,6,FALSE),"") | K6: =IFERROR(VLOOKUP(B6,Blad1!A:H,7,FALSE),"") -> N | L6: =IFERROR(VLOOKUP(B6,Blad1!A:H,8,FALSE),"") -> E
A7: =B7&" "&C7&" "&D7 -> 100224.000.00 Natriumhydroxide oplossing 32% can 25 kg | B7: 100224.000.00 | C7: Natriumhydroxide oplossing 32% | D7: can 25 kg | E7: =IFERROR(VLOOKUP(B7,Blad1!A:H,2,FALSE),"") -> Natriumhydroxide, oplossing | F7: {=VBAProject.Module1.TekstTussenHaakjes(E7)} -> #NAME? | G7: =IFERROR(VLOOKUP(B7,Blad1!A:H,3,FALSE),"") -> 1824 | H7: =IFERROR(VLOOKUP(B7,Blad1!A:H,4,FALSE),"") -> II | I7: =IFERROR(VLOOKUP(B7,Blad1!A:H,5,FALSE),"") -> 8 | J7: =IFERROR(VLOOKUP(B7,Blad1!A:H,6,FALSE),"") | K7: =IFERROR(VLOOKUP(B7,Blad1!A:H,7,FALSE),"") -> N | L7: =IFERROR(VLOOKUP(B7,Blad1!A:H,8,FALSE),"") -> E
A8: =B8&" "&C8&" "&D8 -> 100226.000.00 Natriumhydroxide oplossing 32% vat 270 kg | B8: 100226.000.00 | C8: Natriumhydroxide oplossing 32% | D8: vat 270 kg | E8: =IFERROR(VLOOKUP(B8,Blad1!A:H,2,FALSE),"") -> Natriumhydroxide, oplossing | F8: {=VBAProject.Module1.TekstTussenHaakjes(E8)} -> #NAME? | G8: =IFERROR(VLOOKUP(B8,Blad1!A:H,3,FALSE),"") -> 1824 | H8: =IFERROR(VLOOKUP(B8,Blad1!A:H,4,FALSE),"") -> II | I8: =IFERROR(VLOOKUP(B8,Blad1!A:H,5,FALSE),"") -> 8 | J8: =IFERROR(VLOOKUP(B8,Blad1!A:H,6,FALSE),"") | K8: =IFERROR(VLOOKUP(B8,Blad1!A:H,7,FALSE),"") -> N | L8: =IFERROR(VLOOKUP(B8,Blad1!A:H,8,FALSE),"") -> E
A9: =B9&" "&C9&" "&D9 -> 100233.000.00 Salpeterzuur 53% vat 270 kg | B9: 100233.000.00 | C9: Salpeterzuur 53% | D9: vat 270 kg | E9: =IFERROR(VLOOKUP(B9,Blad1!A:H,2,FALSE),"") -> Salpeterzuur | F9: {=VBAProject.Module1.TekstTussenHaakjes(E9)} -> #NAME? | G9: =IFERROR(VLOOKUP(B9,Blad1!A:H,3,FALSE),"") -> 2031 | H9: =IFERROR(VLOOKUP(B9,Blad1!A:H,4,FALSE),"") -> II | I9: =IFERROR(VLOOKUP(B9,Blad1!A:H,5,FALSE),"") -> 8 | J9: =IFERROR(VLOOKUP(B9,Blad1!A:H,6,FALSE),"") | K9: =IFERROR(VLOOKUP(B9,Blad1!A:H,7,FALSE),"") -> N | L9: =IFERROR(VLOOKUP(B9,Blad1!A:H,8,FALSE),"") -> E
A10: =B10&" "&C10&" "&D10 -> 100234.000.00 Salpeterzuur 53% can 25 kg | B10: 100234.000.00 | C10: Salpeterzuur 53% | D10: can 25 kg | E10: =IFERROR(VLOOKUP(B10,Blad1!A:H,2,FALSE),"") -> Salpeterzuur | F10: {=VBAProject.Module1.TekstTussenHaakjes(E10)} -> #NAME? | G10: =IFERROR(VLOOKUP(B10,Blad1!A:H,3,FALSE),"") -> 2031 | H10: =IFERROR(VLOOKUP(B10,Blad1!A:H,4,FALSE),"") -> II | I10: =IFERROR(VLOOKUP(B10,Blad1!A:H,5,FALSE),"") -> 8 | J10: =IFERROR(VLOOKUP(B10,Blad1!A:H,6,FALSE),"") | K10: =IFERROR(VLOOKUP(B10,Blad1!A:H,7,FALSE),"") -> N | L10: =IFERROR(VLOOKUP(B10,Blad1!A:H,8,FALSE),"") -> E
A11: =B11&" "&C11&" "&D11 -> 100257.000.00 Waterstofperoxide 35% can 23 kg | B11: 100257.000.00 | C11: Waterstofperoxide 35% | D11: can 23 kg | E11: =IFERROR(VLOOKUP(B11,Blad1!A:H,2,FALSE),"") -> Waterstofperoxide, oplossing in water | F11: {=VBAProject.Module1.TekstTussenHaakjes(E11)} -> #NAME? | G11: =IFERROR(VLOOKUP(B11,Blad1!A:H,3,FALSE),"") -> 2014 | H11: =IFERROR(VLOOKUP(B11,Blad1!A:H,4,FALSE),"") -> II | I11: =IFERROR(VLOOKUP(B11,Blad1!A:H,5,FALSE),"") -> 5.1 | J11: =IFERROR(VLOOKUP(B11,Blad1!A:H,6,FALSE),"") -> 8 | K11: =IFERROR(VLOOKUP(B11,Blad1!A:H,7,FALSE),"") -> N | L11: =IFERROR(VLOOKUP(B11,Blad1!A:H,8,FALSE),"") -> E
A12: =B12&" "&C12&" "&D12 -> 100781.000.00 Azijnzuur 80% E260 can 22 kg | B12: 100781.000.00 | C12: Azijnzuur 80% E260 | D12: can 22 kg | E12: =IFERROR(VLOOKUP(B12,Blad1!A:H,2,FALSE),"") -> Azijnzuur, oplossing | F12: {=VBAProject.Module1.TekstTussenHaakjes(E12)} -> #NAME? | G12: =IFERROR(VLOOKUP(B12,Blad1!A:H,3,FALSE),"") -> 2790 | H12: =IFERROR(VLOOKUP(B12,Blad1!A:H,4,FALSE),"") -> II | I12: =IFERROR(VLOOKUP(B12,Blad1!A:H,5,FALSE),"") -> 8 | J12: =IFERROR(VLOOKUP(B12,Blad1!A:H,6,FALSE),"") | K12: =IFERROR(VLOOKUP(B12,Blad1!A:H,7,FALSE),"") -> N | L12: =IFERROR(VLOOKUP(B12,Blad1!A:H,8,FALSE),"") -> E
A13: =B13&" "&C13&" "&D13 -> 100782.000.00 Caustic soda miniparels zak 25 kg | B13: 100782.000.00 | C13: Caustic soda miniparels | D13: zak 25 kg | E13: =IFERROR(VLOOKUP(B13,Blad1!A:H,2,FALSE),"") -> Natriumhydroxide, vast | F13: {=VBAProject.Module1.TekstTussenHaakjes(E13)} -> #NAME? | G13: =IFERROR(VLOOKUP(B13,Blad1!A:H,3,FALSE),"") -> 1823 | H13: =IFERROR(VLOOKUP(B13,Blad1!A:H,4,FALSE),"") -> II | I13: =IFERROR(VLOOKUP(B13,Blad1!A:H,5,FALSE),"") -> 8 | J13: =IFERROR(VLOOKUP(B13,Blad1!A:H,6,FALSE),"") | K13: =IFERROR(VLOOKUP(B13,Blad1!A:H,7,FALSE),"") -> N | L13: =IFERROR(VLOOKUP(B13,Blad1!A:H,8,FALSE),"") -> E
... A926: =B926&" "&C926&" "&D926 -> 124374.000.00 Doseersproeier 5 l Greasecutter en Greasestrip doos 12 st | B926: 124374.000.00 | C926: Doseersproeier 5 l Greasecutter en Greasestrip | D926: doos 12 st | E926: =IFERROR(VLOOKUP(B926,Blad1!A:H,2,FALSE),"") | F926: {=VBAProject.Module1.TekstTussenHaakjes(E926)} -> #NAME? | G926: =IFERROR(VLOOKUP(B926,Blad1!A:H,3,FALSE),"") | H926: =IFERROR(VLOOKUP(B926,Blad1!A:H,4,FALSE),"") | I926: =IFERROR(VLOOKUP(B926,Blad1!A:H,5,FALSE),"") | J926: =IFERROR(VLOOKUP(B926,Blad1!A:H,6,FALSE),"") | K926: =IFERROR(VLOOKUP(B926,Blad1!A:H,7,FALSE),"") | L926: =IFERROR(VLOOKUP(B926,Blad1!A:H,8,FALSE),"")

Sheet Query1
A1: Item_No | B1: Omschrijving | C1: Verpakking | D1: Description | E1: n.e.g. | F1: un_code | G1: verpak_groep | H1: gevaar_klasse | I1: extra_etiket | J1: tunnelbeperking | K1: adr_lc_jn
A2: 100018.000.00 | D2: EHTANOL, OPLOSSING | E2: {=TekstTussenHaakjes(Query1[[#This Row],[Description]])} -> #NAME?
A3: 100019.000.00 | D3: EHTANOL, OPLOSSING | E3: {=TekstTussenHaakjes(Query1[[#This Row],[Description]])} -> #NAME?
A4: 100085.000.00 | D4: BIJTENDE BASISCHE ORGANISCHE VLOEISTOF N.E.G. | E4: {=TekstTussenHaakjes(Query1[[#This Row],[Description]])} -> #NAME? | F4: 1824 | G4: II | H4: 8 | J4: E | K4: N
A5: 100086.000.00 | D5: BIJTENDE BASISCHE ORGANISCHE VLOEISTOF N.E.G. | E5: {=TekstTussenHaakjes(Query1[[#This Row],[Description]])} -> #NAME? | F5: 1824 | G5: II | H5: 8 | J5: E | K5: N
A6: 100105.000.00 | D6: DIPENTEEN | E6: {=TekstTussenHaakjes(Query1[[#This Row],[Description]])} -> #NAME? | F6: 1824 | G6: II | H6: 8 | J6: E | K6: N
A7: 100223.000.00 | D7: NATRIUMHYDROXIDE, OPLOSSING | E7: {=TekstTussenHaakjes(Query1[[#This Row],[Description]])} -> #NAME? | F7: 1824 | G7: II | H7: 8 | J7: E | K7: N
A8: 100224.000.00 | D8: NATRIUMHYDROXIDE, OPLOSSING | E8: {=TekstTussenHaakjes(Query1[[#This Row],[Description]])} -> #NAME? | F8: 2031 | G8: II | H8: 8 | J8: E | K8: N
A9: 100226.000.00 | D9: NATRIUMHYDROXIDE, OPLOSSING | E9: {=TekstTussenHaakjes(Query1[[#This Row],[Description]])} -> #NAME? | F9: 2031 | G9: II | H9: 8 | J9: E | K9: N
A10: 100227.000.00 | D10: Natriumhydroxide, oplossing | E10: {=TekstTussenHaakjes(Query1[[#This Row],[Description]])} -> #NAME? | F10: 2014 | G10: II | H10: 5.1 | I10: 8 | J10: E | K10: N
A11: 100228.000.00 | D11: Natriumhydroxide, oplossing | E11: {=TekstTussenHaakjes(Query1[[#This Row],[Description]])} -> #NAME? | F11: 1830 | G11: II | H11: 8 | J11: E | K11: N
A12: 100229.000.00 | D12: Natriumhydroxide, oplossing | E12: {=TekstTussenHaakjes(Query1[[#This Row],[Description]])} -> #NAME? | F12: 1830 | G12: II | H12: 8 | J12: E | K12: N
A13: 100230.000.00 | D13: Natriumhypochloriet, oplossing | E13: {=TekstTussenHaakjes(Query1[[#This Row],[Description]])} -> #NAME? | F13: 2790 | G13: II | H13: 8 | J13: E | K13: N
A14: 100233.000.00 | D14: SALPETERZUUR | E14: {=TekstTussenHaakjes(Query1[[#This Row],[Description]])} -> #NAME?
A15: 100234.000.00 | D15: SALPETERZUUR | E15: {=TekstTussenHaakjes(Query1[[#This Row],[Description]])} -> #NAME? | F15: 1779 | G15: II | H15: 8 | I15: 3 | J15: D/E | K15: N
A16: 100257.000.00 | D16: WATERSTOFPERIOXIDE, OPLOSSING IN WATER | E16: {=TekstTussenHaakjes(Query1[[#This Row],[Description]])} -> #NAME? | F16: 1824 | G16: II | H16: 8 | J16: E | K16: N
A17: 100258.000.00 | D17: ZWAVELZUUR | E17: {=TekstTussenHaakjes(Query1[[#This Row],[Description]])} -> #NAME? | F17: 1791 | G17: II | H17: 8 | J17: E | K17: N
A18: 100259.000.00 | D18: ZWAVELZUUR | E18: {=TekstTussenHaakjes(Query1[[#This Row],[Description]])} -> #NAME? | F18: 1791 | G18: III | H18: 8 | J18: E | K18: N
A19: 100781.000.00 | D19: Azijnzuur, oplossing | E19: {=TekstTussenHaakjes(Query1[[#This Row],[Description]])} -> #NAME?
A20: 100782.000.00 | D20: Natriumhydroxide, vast | E20: {=TekstTussenHaakjes(Query1[[#This Row],[Description]])} -> #NAME? | F20: 2031 | G20: II | H20: 8 | J20: E | K20: N
A21: 100786.000.00 | D21: Methaanzuuroplossing | E21: {=TekstTussenHaakjes(Query1[[#This Row],[Description]])} -> #NAME? | F21: 2014 | G21: II | H21: 5.1 | I21: 8 | J21: E | K21: N
A22: 100787.000.00 | D22: NATRIUMHYDROXIDE, OPLOSSING | E22: {=TekstTussenHaakjes(Query1[[#This Row],[Description]])} -> #NAME? | F22: 1789 | G22: II | H22: 8 | J22: E | K22: N
A23: 100788.000.00 | D23: HYPOCHLORIET, OPLOSSING | E23: {=TekstTussenHaakjes(Query1[[#This Row],[Description]])} -> #NAME? | F23: 2796 | G23: II | H23: 8 | J23: E | K23: N
A24: 100789.000.00 | D24: Hypochloriet, oplossing | E24: {=TekstTussenHaakjes(Query1[[#This Row],[Description]])} -> #NAME?
A25: 100791.000.00 | D25: Salpeterzuur | E25: {=TekstTussenHaakjes(Query1[[#This Row],[Description]])} -> #NAME?
A26: 100805.000.00 | D26: WATERSTOFPERIOXIDE, OPLOSSING IN WATER | E26: {=TekstTussenHaakjes(Query1[[#This Row],[Description]])} -> #NAME? | F26: 1170 | G26: II | H26: 3 | J26: D/E | K26: J
A27: 100806.000.00 | D27: Waterstofperoxide, oplossing in water | E27: {=TekstTussenHaakjes(Query1[[#This Row],[Description]])} -> #NAME? | F27: 2209 | G27: III | H27: 8 | J27: E | K27: N
A28: 100807.000.00 | D28: CHLOORWATERSTOFZUUR (ZOUTZUUR) | E28: {=TekstTussenHaakjes(Query1[[#This Row],[Description]])} -> #NAME? | F28: 3262 | G28: III | H28: 8 | J28: E | K28: J
A29: 100808.000.00 | D29: ZOUTUUR | E29: {=TekstTussenHaakjes(Query1[[#This Row],[Description]])} -> #NAME? | F29: 3266 | G29: III | H29: 8 | J29: E | K29: N
A30: 100809.000.00 | D30: Zwavelzuur | E30: {=TekstTussenHaakjes(Query1[[#This Row],[Description]])} -> #NAME?
A31: 101375.000.00 | D31: Extracten, aromatisch, vloeibaar | E31: {=TekstTussenHaakjes(Query1[[#This Row],[Description]])} -> #NAME?
A32: 101376.000.00 | D32: Extracten, aromatisch, vloeibaar | E32: {=TekstTussenHaakjes(Query1[[#This Row],[Description]])} -> #NAME?
A33: 101677.000.00 | D33: ETHANOL SOLUTION (ETHYL ALCOHOL SOLUTION) | E33: {=TekstTussenHaakjes(Query1[[#This Row],[Description]])} -> #NAME? | F33: 1791 | G33: II | H33: 8 | J33: E | K33: N
A34: 101688.000.00 | D34: Alcoholen N.E.G. (ethanol, propaan-2-ol) | E34: {=TekstTussenHaakjes(Query1[[#This Row],[Description]])} -> #NAME? | F34: 1824 | G34: II | H34: 8 | J34: E | K34: N
A35: 101690.000.00 | D35: Alcoholen, N.E.G. (ethanol, propaan-2-ol) | E35: {=TekstTussenHaakjes(Query1[[#This Row],[Description]])} -> #NAME? | F35: 1719 | G35: II | H35: 8 | J35: E | K35: N
A36: 101691.000.00 | D36: Alcoholen, N.E.G. (ethanol, propaan-2-ol) | E36: {=TekstTussenHaakjes(Query1[[#This Row],[Description]])} -> #NAME? | F36: 1719 | G36: II | H36: 8 | J36: E | K36: N
A37: 101692.000.00 | D37: Alcoholen, N.E.G. (ethanol, propaan-2-ol) | E37: {=TekstTussenHaakjes(Query1[[#This Row],[Description]])} -> #NAME? | F37: 3267 | G37: III | H37: 8 | J37: E | K37: N
A38: 101695.000.00 | D38: BRANDBARE VLOEISTOF, N.E.G. | E38: {=TekstTussenHaakjes(Query1[[#This Row],[Description]])} -> #NAME? | F38: 3267 | G38: III | H38: 8 | J38: E | K38: N
A39: 101696.000.00 | D39: BRANDBARE VLOEISTOF, N.E.G. | E39: {=TekstTussenHaakjes(Query1[[#This Row],[Description]])} -> #NAME? | F39: 1805 | G39: III | H39: 8 | J39: E | K39: N
A40: 101701.000.00 | D40: Alcoholen, N.E.G. (ethanol, propaan-2-ol) | E40: {=TekstTussenHaakjes(Query1[[#This Row],[Description]])} -> #NAME?
A41: 101705.000.00 | D41: Alcohols N.E.G. (Ethanol,Isopropanol mixture) | E41: {=TekstTussenHaakjes(Query1[[#This Row],[Description]])} -> #NAME?
A42: 101706.000.00 | D42: Alcohols N.E.G. (Ethanol,Isopropanol mixture) | E42: {=TekstTussenHaakjes(Query1[[#This Row],[Description]])} -> #NAME? | F42: 3267 | G42: III | H42: 8 | J42: E | K42: N
A43: 101709.000.00 | D43: Alcoholen, N.E.G. (ethanol, propaan-2-ol) | E43: {=TekstTussenHaakjes(Query1[[#This Row],[Description]])} -> #NAME? | F43: 3266 | G43: III | H43: 8 | J43: E | K43: N
A44: 101714.000.00 | D44: Ethanol, oplossing N.E.G. (ethylaclohol, oplossing) | E44: {=TekstTussenHaakjes(Query1[[#This Row],[Description]])} -> #NAME? | F44: 1760 | G44: III | H44: 8 | J44: E | K44: N
A45: 101715.000.00 | D45: Ethanol, oplossing N.E.G. (ethylaclohol, oplossing) | E45: {=TekstTussenHaakjes(Query1[[#This Row],[Description]])} -> #NAME?
A46: 101716.000.00 | D46: Ethanol, oplossing N.E.G. (ethylaclohol, oplossing) | E46: {=TekstTussenHaakjes(Query1[[#This Row],[Description]])} -> #NAME?
A47: 101717.000.00 | D47: Alcoholen, N.E.G. (ethanol, propaan-2-ol) | E47: {=TekstTussenHaakjes(Query1[[#This Row],[Description]])} -> #NAME? | F47: 1719 | G47: III | H47: 8 | J47: E | K47: N
A48: 101719.000.00 | D48: Spuitbussen | E48: {=TekstTussenHaakjes(Query1[[#This Row],[Description]])} -> #NAME?
A49: 101720.000.00 | D49: Spuitbussen | E49: {=TekstTussenHaakjes(Query1[[#This Row],[Description]])} -> #NAME?
A50: 101721.000.00 | D50: Spuitbussen (AËROSOLEN) | E50: {=TekstTussenHaakjes(Query1[[#This Row],[Description]])} -> #NAME?
A51: 101722.000.00 | D51: Spuitbussen | E51: {=TekstTussenHaakjes(Query1[[#This Row],[Description]])} -> #NAME? | F51: 2319 | G51: III | H51: 3 | J51: D/E | K51: N
A52: 101723.000.00 | D52: Extracten, aromatisch, vloeibaar | E52: {=TekstTussenHaakjes(Query1[[#This Row],[Description]])} -> #NAME? | F52: 3082 | G52: III | H52: 9 | J52: E | K52: N
A53: 101724.000.00 | D53: Ethanol, oplossing | E53: {=TekstTussenHaakjes(Query1[[#This Row],[Description]])} -> #NAME? | F53: 3266 | G53: II | H53: 8 | J53: E | K53: N
A54: 101730.000.00 | D54: Spuitbussen (aerosolen) | E54: {=TekstTussenHaakjes(Query1[[#This Row],[Description]])} -> #NAME? | F54: 1824 | G54: II | H54: 8 | J54: E | K54: N
A55: 101736.000.00 | D55: Spuitbussen (aerolsolen) | E55: {=TekstTussenHaakjes(Query1[[#This Row],[Description]])} -> #NAME? | F55: 1824 | G55: III | H55: 8 | J55: E | K55: N
A56: 101786.000.00 | D56: Alcoholen N.E.G. (ethanol, propaan-2-ol) | E56: {=TekstTussenHaakjes(Query1[[#This Row],[Description]])} -> #NAME? | F56: 3082 | G56: III | H56: 9 | J56: E | K56: N
A57: 101788.000.00 | D57: Formaldehyde, oplossing | E57: {=TekstTussenHaakjes(Query1[[#This Row],[Description]])} -> #NAME? | F57: 3266 | G57: II | H57: 8 | J57: E | K57: N
A58: 101795.000.00 | D58: Bijtende basische anorganische vaste stof N.E.G. (dinatriumtrioxosilicaat, mengsel) | E58: {=TekstTussenHaakjes(Query1[[#This Row],[Description]])} -> #NAME?
A59: 101800.000.00 | D59: BIJTENDE BASISCHE ANORGANISCHE VLOEISTOF N.E.G. | E59: {=TekstTussenHaakjes(Query1[[#This Row],[Description]])} -> #NAME? | F59: 1824 | G59: II | H59: 8 | J59: E | K59: N
A60: 101823.000.00 | D60: Bijtende basische organische vloeistof, N.E.G. ( hypochloriet oplossing) | E60: {=TekstTussenHaakjes(Query1[[#This Row],[Description]])} -> #NAME? | F60: 1805 | G60: III | H60: 8 | J60: E | K60: N
A61: 101824.000.00 | D61: BIJTENDE VLOEISTOF, N.E.G. | E61: {=TekstTussenHaakjes(Query1[[#This Row],[Description]])} -> #NAME? | F61: 3266 | G61: II | H61: 8 | J61: E | K61: N
A62: 101825.000.00 | D62: Bijtende vloeistof zuur anorganisch | E62: {=TekstTussenHaakjes(Query1[[#This Row],[Description]])} -> #NAME? | F62: 1824 | G62: II | H62: 8 | J62: E | K62: N
A63: 101827.000.00 | D63: BIJTENDE VLOEISTOF, ZUUR, ANORGANISCH N.E.G. | E63: {=TekstTussenHaakjes(Query1[[#This Row],[Description]])} -> #NAME? | F63: 2924 | G63: II | H63: 3 | I63: 8 | J63: D/E | K63: N
A64: 101832.000.00 | D64: BIJTENDE BASISCHE ANORGANISCHE VLOEISTOF, N.E.G. | E64: {=TekstTussenHaakjes(Query1[[#This Row],[Description]])} -> #NAME? | F64: 3266 | G64: II | H64: 8 | J64: E | K64: N
A65: 101848.000.00 | D65: Alcoholen, N.E.G. (propaan-2-ol) | E65: {=TekstTussenHaakjes(Query1[[#This Row],[Description]])} -> #NAME? | F65: 1170 | G65: III | H65: 3 | J65: D/E | K65: N
A66: 101859.000.00 | D66: KUNSTTERPENTIJN | E66: {=TekstTussenHaakjes(Query1[[#This Row],[Description]])} -> #NAME? | F66: 3266 | G66: II | H66: 8 | J66: E | K66: N
A67: 105474.000.00 | D67: EHTANOL, OPLOSSING | E67: {=TekstTussenHaakjes(Query1[[#This Row],[Description]])} -> #NAME? | F67: 3266 | G67: II | H67: 8 | J67: E | K67: N
A68: 105838.000.00 | D68: SPUITBUSSEN (AËROSOLEN) | E68: {=TekstTussenHaakjes(Query1[[#This Row],[Description]])} -> #NAME? | F68: 2924 | G68: II | H68: 3 | I68: 8 | J68: D/E | K68: N
A69: 107583.000.00 | D69: Spuitbussen (aërosolen) (naptha, terpinolene) | E69: {=TekstTussenHaakjes(Query1[[#This Row],[Description]])} -> #NAME? | F69: 3266 | G69: II | H69: 8 | J69: E | K69: N
A70: 107584.000.00 | D70: Spuitbussen | E70: {=TekstTussenHaakjes(Query1[[#This Row],[Description]])} -> #NAME? | F70: 1805 | G70: III | H70: 8 | J70: E | K70: N
A71: 107586.000.00 | D71: Spuitbussen | E71: {=TekstTussenHaakjes(Query1[[#This Row],[Description]])} -> #NAME? | F71: 1805 | G71: III | H71: 8 | J71: E | K71: N
A72: 107587.000.00 | D72: Spuitbussen | E72: {=TekstTussenHaakjes(Query1[[#This Row],[Description]])} -> #NAME? | F72: 3264 | G72: II | H72: 8 | J72: E | K72: N
A73: 107589.000.00 | D73: Spuitbussen | E73: {=TekstTussenHaakjes(Query1[[#This Row],[Description]])} -> #NAME? | F73: 3264 | G73: II | H73: 8 | J73: E | K73: N
A74: 107592.000.00 | D74: Spuitbussen | E74: {=TekstTussenHaakjes(Query1[[#This Row],[Description]])} -> #NAME? | F74: 1805 | G74: III | H74: 8 | J74: E | K74: N
A75: 107593.000.00 | D75: Spuitbussen | E75: {=TekstTussenHaakjes(Query1[[#This Row],[Description]])} -> #NAME? | F75: 1805 | G75: III | H75: 8 | J75: E | K75: N
A76: 107594.000.00 | D76: Spuitbussen (AËROSOLEN) | E76: {=TekstTussenHaakjes(Query1[[#This Row],[Description]])} -> #NAME? | F76: 1805 | G76: III | H76: 8 | J76: E | K76: N
A77: 107595.000.00 | D77: Spuitbussen | E77: {=TekstTussenHaakjes(Query1[[#This Row],[Description]])} -> #NAME?
A78: 107596.000.00 | D78: Spuitbussen | E78: {=TekstTussenHaakjes(Query1[[#This Row],[Description]])} -> #NAME?
A79: 107597.000.00 | D79: Spuitbussen | E79: {=TekstTussenHaakjes(Query1[[#This Row],[Description]])} -> #NAME? | F79: 1805 | G79: III | H79: 8 | J79: E | K79: N
A80: 107598.000.00 | D80: Spuitbussen | E80: {=TekstTussenHaakjes(Query1[[#This Row],[Description]])} -> #NAME? | F80: 3266 | G80: II | H80: 8 | J80: E | K80: N
A81: 107599.000.00 | D81: Spuitbussen | E81: {=TekstTussenHaakjes(Query1[[#This Row],[Description]])} -> #NAME? | F81: 3266 | G81: II | H81: 8 | J81: E | K81: N
A82: 107601.000.00 | D82: Spuitbussen | E82: {=TekstTussenHaakjes(Query1[[#This Row],[Description]])} -> #NAME? | F82: 3266 | G82: II | H82: 8 | J82: E | K82: N
A83: 107604.000.00 | D83: Spuitbussen | E83: {=TekstTussenHaakjes(Query1[[#This Row],[Description]])} -> #NAME? | F83: 3266 | G83: II | H83: 8 | J83: E | K83: N
A84: 108179.000.00 | D84: Bijtende alkalische vloeistof, n.e.g. (natrioumhydorxide, natriumhypochloriet) | E84: {=TekstTussenHaakjes(Query1[[#This Row],[Description]])} -> #NAME? | F84: 3266 | G84: II | H84: 8 | J84: E | K84: N
A85: 108180.000.00 | D85: NATRIUMHYDROXIDE, OPLOSSING | E85: {=TekstTussenHaakjes(Query1[[#This Row],[Description]])} -> #NAME? | F85: 3266 | G85: II | H85: 8 | J85: E | K85: N
A86: 108181.000.00 | D86: Bijtende alkalische vloeistof, n.e.g. ( natriumhydroxide , hypochloriet) | E86: {=TekstTussenHaakjes(Query1[[#This Row],[Description]])} -> #NAME? | F86: 3266 | G86: II | H86: 8 | J86: E | K86: N
A87: 108182.000.00 | D87: BIJTENDE ALKALISCHE VLOEISTOF N.E.G. | E87: {=TekstTussenHaakjes(Query1[[#This Row],[Description]])} -> #NAME? | F87: 1824 | G87: II | H87: 8 | J87: E | K87: N
A88: 108183.000.00 | D88: BIJTENDE BASISCHE ORGANISCHE VLOEISTOF N.E.G. | E88: {=TekstTussenHaakjes(Query1[[#This Row],[Description]])} -> #NAME? | F88: 1824 | G88: II | H88: 8 | J88: E | K88: N
A89: 108184.000.00 | D89: Alcoholen, n.e.g. ( propanol , isopropanol ) | E89: {=TekstTussenHaakjes(Query1[[#This Row],[Description]])} -> #NAME? | F89: 1824 | G89: II | H89: 8 | J89: E | K89: N
A90: 108185.000.00 | D90: Alcoholen, n.e.g. ( propanol , isopropanol ) | E90: {=TekstTussenHaakjes(Query1[[#This Row],[Description]])} -> #NAME? | F90: 1824 | G90: II | H90: 8 | J90: E | K90: N
A91: 108186.000.00 | D91: EHTANOL, OPLOSSING | E91: {=TekstTussenHaakjes(Query1[[#This Row],[Description]])} -> #NAME?
A92: 108187.000.00 | D92: MILIEUGEVAARLIJKE VASTE STOF N.E.G. | E92: {=TekstTussenHaakjes(Query1[[#This Row],[Description]])} -> #NAME?
A93: 108188.000.00 | D93: Bijtende organische vloeistof, N.E.G. (tetranatriumethyleendiaminetetraacetaat) | E93: {=TekstTussenHaakjes(Query1[[#This Row],[Description]])} -> #NAME? | F93: 1824 | G93: III | H93: 8 | J93: E | K93: N
A94: 108189.000.00 | D94: Fosforzuur, oplossing | E94: {=TekstTussenHaakjes(Query1[[#This Row],[Description]])} -> #NAME? | F94: 1814 | G94: III | H94: 8 | J94: E | K94: N
A95: 108190.000.00 | D95: 0 | E95: {=TekstTussenHaakjes(Query1[[#This Row],[Description]])} -> #NAME? | F95: 1824 | G95: III | H95: 8 | J95: E | K95: N
A96: 108193.000.00 | D96: BIJTENDE BASISCHE ORGANISCHE VLOEISTOF N.E.G. | E96: {=TekstTussenHaakjes(Query1[[#This Row],[Description]])} -> #NAME? | F96: 1824 | G96: II | H96: 8 | J96: E | K96: N
A97: 108195.000.00 | D97: BIJTENDE BASISCHE ORGANISCHE VLOEISTOF N.E.G. | E97: {=TekstTussenHaakjes(Query1[[#This Row],[Description]])} -> #NAME? | F97: 1824 | G97: II | H97: 8 | J97: E | K97: N
A98: 108196.000.00 | D98: Bijtende basische anorganische vloeistof, N.E.G (dinatriumdisilicaat)_x005F_x000D_ | E98: {=TekstTussenHaakjes(Query1[[#This Row],[Description]])} -> #NAME? | F98: 1824 | G98: II | H98: 8 | J98: E | K98: N
A99: 108197.000.00 | D99: BIJTENDE BASISCHE ORGANISCHE VLOEISTOF N.E.G. | E99: {=TekstTussenHaakjes(Query1[[#This Row],[Description]])} -> #NAME? | F99: 1824 | G99: II | H99: 8 | J99: E | K99: N
A100: 108205.000.00 | D100: Natriumhydroxide, oplossing | E100: {=TekstTussenHaakjes(Query1[[#This Row],[Description]])} -> #NAME? | F100: 1824 | G100: II | H100: 8 | J100: E | K100: N
...

Sheet Blad1
A1: artnr | B1: adr_omschrijving | C1: un_code | D1: verpak_groep | E1: gevaar_klasse | F1: extra_etiket | G1: adr_lc_jn | H1: tunnelbeperking
A2: 100018.000.00 | B2: Eethanol, oplossing (ethylalcohol, oplossing) | C2: 1170 | D2: II | E2: 3 | G2: N | H2: D/E
A3: 100019.000.00 | B3: Ethanol, oplossing (ethylalcohol, oplossing) | C3: 1170 | D3: II | E3: 3 | G3: N | H3: D/E
A4: 100085.000.00 | B4: Bijtende basische organische vloeistof N.E.G. (didedylmethylammoniumchloride) | C4: 3267 | D4: III | E4: 8 | G4: J | H4: E
A5: 100086.000.00 | B5: Bijtende basische organische vloeistof N.E.G. (didedylmethylammoniumchloride) | C5: 3267 | D5: III | E5: 8 | G5: J | H5: E
A6: 100105.000.00 | B6: Dipenteen | C6: 2052 | D6: III | E6: 3 | G6: J | H6: D/E
A7: 100223.000.00 | B7: Natriumhydroxide, oplossing | C7: 1824 | D7: II | E7: 8 | G7: N | H7: E
A8: 100224.000.00 | B8: Natriumhydroxide, oplossing | C8: 1824 | D8: II | E8: 8 | G8: N | H8: E
A9: 100225.000.00 | B9: Natriumhydroxide, oplossing | C9: 1824 | D9: II | E9: 8 | G9: N | H9: E
A10: 100226.000.00 | B10: Natriumhydroxide, oplossing | C10: 1824 | D10: II | E10: 8 | G10: N | H10: E
A11: 100227.000.00 | B11: Natriumhydroxide, oplossing | C11: 1824 | D11: II | E11: 8 | G11: N | H11: E
A12: 100228.000.00 | B12: Natriumhydroxide, oplossing | C12: 1824 | D12: II | E12: 8 | G12: N | H12: E
A13: 100229.000.00 | B13: Natriumhydroxide, oplossing | C13: 1824 | D13: II | E13: 8 | G13: N | H13: E
... A16: 100234.000.00 | B16: Salpeterzuur | C16: 2031 | D16: II | E16: 8 | G16: N | H16: E
A17: 100257.000.00 | B17: Waterstofperoxide, oplossing in water | C17: 2014 | D17: II | E17: 5.1 | F17: 8 | G17: N | H17: E
A18: 100258.000.00 | B18: ZWAVELZUUR | C18: 1830 | D18: II | E18: 8 | G18: N | H18: E
A19: 100259.000.00 | B19: ZWAVELZUUR | C19: 1830 | D19: II | E19: 8 | G19: N | H19: E
A20: 100781.000.00 | B20: Azijnzuur, oplossing | C20: 2790 | D20: II | E20: 8 | G20: N | H20: E
A21: 100782.000.00 | B21: Natriumhydroxide, vast | C21: 1823 | D21: II | E21: 8 | G21: N | H21: E
A22: 100786.000.00 | B22: Methaanzuuroplossing | C22: 1779 | D22: II | E22: 8 | F22: 3 | G22: N | H22: D/E
A23: 100787.000.00 | B23: Natriumhydroxide, oplossing | C23: 1824 | D23: II | E23: 8 | G23: N | H23: E
A24: 100788.000.00 | B24: Hypochloriet, oplossing | C24: 1791 | D24: II | E24: 8 | G24: N | H24: E
A25: 100789.000.00 | B25: Hypochloriet, oplossing | C25: 1791 | D25: III | E25: 8 | G25: N | H25: E
A26: 100791.000.00 | B26: Salpeterzuur | C26: 2031 | D26: II | E26: 8 | G26: N | H26: E
A27: 100805.000.00 | B27: Waterstofperoxide, oplossing in water | C27: 2014 | D27: II | E27: 5.1 | F27: 8 | G27: N | H27: E
A28: 100806.000.00 | B28: Waterstofperoxide, oplossing in water | C28: 2014 | D28: II | E28: 5.1 | F28: 8 | G28: N | H28: E
A29: 100807.000.00 | B29: CHLOORWATERSTOFZUUR (ZOUTZUUR) | C29: 1789 | D29: II | E29: 8 | G29: N | H29: E
A30: 100808.000.00 | B30: Zoutzuur | C30: 1789 | D30: II | E30: 8 | G30: N | H30: E
A31: 100809.000.00 | B31: Zwavelzuur | C31: 2796 | D31: II | E31: 8 | G31: N | H31: E
A32: 101375.000.00 | B32: Extracten, aromatisch, vloeibaar | C32: 1169 | D32: III | E32: 3 | G32: N | H32: D/E
A33: 101376.000.00 | B33: Extracten, aromatisch, vloeibaar | C33: 1169 | D33: III | E33: 3 | G33: J | H33: D/E
A34: 101677.000.00 | B34: ETHANOL SOLUTION (ETHYL ALCOHOL SOLUTION) | C34: 1170 | D34: II | E34: 3 | G34: J | H34: D/E
A35: 101688.000.00 | B35: Alcoholen N.E.G. (ethanol, propaan-2-ol) | C35: 1987 | D35: III | E35: 3 | G35: J | H35: D/E
A36: 101690.000.00 | B36: Alcoholen, N.E.G. (ethanol, propaan-2-ol) | C36: 1987 | D36: III | E36: 3 | G36: J | H36: D/E
A37: 101691.000.00 | B37: Alcoholen, N.E.G. (ethanol, propaan-2-ol) | C37: 1987 | D37: III | E37: 3 | G37: J | H37: D/E
A38: 101692.000.00 | B38: Alcoholen, N.E.G. (ethanol, propaan-2-ol) | C38: 1987 | D38: III | E38: 3 | G38: N | H38: D/E
A39: 101695.000.00 | B39: BRANDBARE VLOEISTOF, N.E.G. | C39: 1993 | D39: III | E39: 3 | G39: N | H39: D/E
A40: 101696.000.00 | B40: BRANDBARE VLOEISTOF, N.E.G. | C40: 1993 | D40: III | E40: 3 | G40: N | H40: D/E
... A48: 101717.000.00 | B48: Alcoholen, N.E.G. (ethanol, propaan-2-ol) | C48: 1987 | D48: III | E48: 3 | G48: N | H48: D/E
A49: 101719.000.00 | B49: Spuitbussen | C49: 1950 | E49: 2 | G49: J | H49: D
A50: 101720.000.00 | B50: Spuitbussen | C50: 1950 | E50: 2 | G50: N | H50: D
A51: 101721.000.00 | B51: Spuitbussen (AËROSOLEN) | C51: 1950 | E51: 2 | G51: J | H51: D
A52: 101722.000.00 | B52: Spuitbussen | C52: 1950 | E52: 2 | G52: J | H52: D
A53: 101723.000.00 | B53: Extracten, aromatisch, vloeibaar | C53: 1169 | D53: III | E53: 3 | G53: N | H53: D/E
A54: 101724.000.00 | B54: Ethanol, oplossing | C54: 1170 | D54: II | E54: 3 | G54: J | H54: D/E
A55: 101730.000.00 | B55: Spuitbussen (aerosolen) | C55: 1950 | E55: 2 | G55: N | H55: D
A56: 101736.000.00 | B56: Spuitbussen (aerolsolen) | C56: 1950 | E56: 2 | G56: N | H56: D
A57: 101786.000.00 | B57: Alcoholen N.E.G. (ethanol, propaan-2-ol) | C57: 1987 | D57: III | E57: 3 | G57: N | H57: (D/E)
A58: 101788.000.00 | B58: Formaldehyde, oplossing | C58: 2209 | D58: III | E58: 8 | G58: N | H58: E
A59: 101795.000.00 | B59: Bijtende basische anorganische vaste stof N.E.G. (dinatriumtrioxosilicaat, mengsel) | C59: 3262 | D59: III | E59: 8 | G59: J | H59: E
A60: 101800.000.00 | B60: Bijtende basische anorganische vloeistof N.E.G. (kaliumhydroxice mengsel) | C60: 3266 | D60: III | E60: 8 | G60: N | H60: E
A61: 101823.000.00 | B61: Bijtende basische organische vloeistof, N.E.G. ( hypochloriet oplossing) | C61: 1791 | D61: III | E61: 8 | G61: J | H61: E
A62: 101824.000.00 | B62: Bijtende vloeistof basisch anorganisch N.E.G. (sodium hydroxide, sodium hypochlorite) | C62: 3266 | D62: III | E62: 8 | G62: J | H62: E
A63: 101825.000.00 | B63: Bijtende vloeistof zuur anorganisch | C63: 3264 | D63: III | E63: 8 | G63: J | H63: E
A64: 101827.000.00 | B64: Corrosive liquid, acidic, inorganic, n.o.s. (Hydrochloric acid) | C64: 3264 | D64: II | E64: 8 | G64: J | H64: E
A65: 101848.000.00 | B65: Alcoholen, N.E.G. (propaan-2-ol) | C65: 1987 | D65: III | E65: 3 | G65: N | H65: D/E
A66: 101859.000.00 | B66: KUNSTTERPENTIJN | C66: 1300 | D66: III | E66: 3 | G66: N | H66: D/E
A67: 105474.000.00 | B67: Ethanol, oplossing | C67: 1170 | D67: III | E67: 3 | G67: J | H67: D/E
A68: 105838.000.00 | B68: Spuitbussen (aerosolen) | C68: 1950 | E68: 2 | G68: J | H68: D
A69: 107583.000.00 | B69: Spuitbussen (aërosolen) (naptha, terpinolene) | C69: 1950 | E69: 2 | G69: J | H69: D
A70: 107584.000.00 | B70: Spuitbussen | C70: 1950 | E70: 2 | G70: J | H70: D
A71: 107586.000.00 | B71: Spuitbussen | C71: 1950 | E71: 2 | G71: N | H71: D
A72: 107587.000.00 | B72: Spuitbussen | C72: 1950 | E72: 2 | G72: J | H72: D
A73: 107589.000.00 | B73: Spuitbussen | C73: 1950 | E73: 2 | G73: N | H73: D
A74: 107592.000.00 | B74: Spuitbussen | C74: 1950 | E74: 2 | G74: N | H74: D
A75: 107593.000.00 | B75: Spuitbussen | C75: 1950 | E75: 2 | G75: J | H75: D
A76: 107594.000.00 | B76: Spuitbussen | C76: 1950 | E76: 2 | G76: N | H76: D
A77: 107595.000.00 | B77: Spuitbussen | C77: 1950 | E77: 2 | G77: N | H77: D
A78: 107596.000.00 | B78: Spuitbussen | C78: 1950 | E78: 2 | G78: N | H78: D
A79: 107597.000.00 | B79: Spuitbussen | C79: 1950 | E79: 2 | G79: N | H79: D
... A83: 107604.000.00 | B83: Spuitbussen | C83: 1950 | E83: 2 | G83: N | H83: D
A84: 108179.000.00 | B84: Bijtende alkalische vloeistof, n.e.g. (natrioumhydorxide, natriumhypochloriet) | C84: 1791 | D84: II | E84: 8 | G84: N | H84: E
A85: 108180.000.00 | B85: Natriumhydroxide-oplossing | C85: 1824 | D85: II | E85: 8 | G85: N | H85: E
A86: 108181.000.00 | B86: Bijtende alkalische vloeistof, n.e.g. ( natriumhydroxide , hypochloriet) | C86: 1719 | D86: II | E86: 8 | G86: N | H86: E
A87: 108182.000.00 | B87: Bijtende alkalische vloeistof, N.E.G. (natrium/kaliumhydroxide, hypochloriet) | C87: 1719 | D87: II | E87: 8 | G87: N | H87: E
A88: 108183.000.00 | B88: Bijtende basische organische vloeistof, N.E.G. (didecyldimethylammoniumchloride) | C88: 3267 | D88: III | E88: 8 | G88: N | H88: E
A89: 108184.000.00 | B89: Alcoholen, n.e.g. ( propanol , isopropanol ) | C89: 1987 | D89: II | E89: 3 | G89: J | H89: D/E
A90: 108185.000.00 | B90: Alcoholen, n.e.g. ( propanol , isopropanol ) | C90: 1987 | D90: II | E90: 3 | G90: N | H90: D/E
A91: 108186.000.00 | B91: Ethanol oplossing (ethylalcohol, oplossing) | C91: 1170 | D91: II | E91: 3 | G91: J | H91: D/E
A92: 108187.000.00 | B92: Milieugevaarlijke vaste stof, n.e.g. (natriumdichloroisocyanuraat dihydraat ) | C92: 3077 | D92: III | E92: 9 | G92: N | H92: E
A93: 108188.000.00 | B93: Bijtende organische vloeistof, N.E.G. (tetranatriumethyleendiaminetetraacetaat) | C93: 3267 | D93: III | E93: 8 | G93: N | H93: E
A94: 108189.000.00 | B94: Fosforzuur, oplossing | C94: 1805 | D94: III | E94: 8 | G94: N | H94: E
A95: 108190.000.00 | B95: 0 | C95: 1824 | D95: II | E95: 8 | G95: N | H95: E
... A108: 108227.000.00 | B108: Ethanol, oplossing | C108: 1170 | D108: III | E108: 3 | G108: N | H108: D/E
A109: 108235.000.00 | B109: Spuitbussen | C109: 1950 | E109: 2 | G109: N | H109: D
A110: 108242.000.00 | B110: Ethanolamine, oplossing | C110: 2491 | D110: III | E110: 8 | G110: J | H110: E
A111: 108244.000.00 | B111: Natriumhydroxide-oplossing | C111: 1824 | D111: II | E111: 8 | G111: N | H111: E
A112: 108252.000.00 | B112: Alcoholen, n.e.g. ( n-propanol , isopropanol ) | C112: 1987 | D112: III | E112: 3 | G112: J | H112: D/E
A113: 108257.000.00 | B113: Ethanol oplossing (ethylalcohol, oplossing) | C113: 1170 | D113: II | E113: 3 | G113: N | H113: D/E
A114: 108258.000.00 | B114: Ethanol oplossing (ethyalcohol, oplossing) | C114: 1170 | D114: II | E114: 3 | G114: N | H114: D/E
A115: 108260.000.00 | B115: Alcoholen, N.E.G. (n-propanol (n-propylalcohol), isopropanol (isopropylalcohol)) | C115: 1987 | D115: III | E115: 3 | G115: J | H115: D/E
A116: 108261.000.00 | B116: Ethanol oplossing (ethylalcohol, oplossing) | C116: 1170 | D116: II | E116: 3 | G116: J | H116: D/E
A117: 108268.000.00 | B117: Isopropylalcohol | C117: 1219 | D117: II | E117: 3 | G117: N | H117: D/E
A118: 108269.000.00 | B118: Vaste stoffen, die brandbare vloeistoffen bevatten, N.E.G.( ethanol ) | C118: 3175 | D118: II | E118: 4.1 | G118: N | H118: E
A119: 108563.000.00 | B119: BIJTENDE ALKALISCHE VLOEISTOF, N.E.G (Natriumhydroxide, Natriumhypochloriet) | C119: 1719 | D119: III | E119: 8 | G119: N | H119: E
A120: 109007.000.00 | B120: Ethanol, oplossing | C120: 1170 | D120: III | E120: 3 | G120: J | H120: D/E
A121: 109013.000.00 | B121: ETHANOL (ETHYLALCOHOL)_x005F_x000D__x000D_ | C121: 1170 | D121: II | E121: 3 | G121: J | H121: D/E
... A127: 109026.000.00 | B127: ETHANOL (ETHYL ALCOHOL)_x005F_x000D_ | C127: 1170 | D127: II | E127: 3 | G127: N | H127: D/E
A128: 109027.000.00 | B128: SPUITBUSSEN (AËROSOLEN)_x000D_ _x000D_ _x000D_ | C128: 1950 | E128: 2 | G128: J | H128: D
A129: 109028.000.00 | B129: Aërosolen_x000D_ _x000D_ _x000D_ | C129: 1950 | E129: 2 | G129: J | H129: D
...
